BEGIN:VCALENDAR
VERSION:2.0
PRODID:-//GVSU//GVSU Calendar 0.1//EN
BEGIN:VEVENT
DTSTART:20260502T100000
DTEND:20260502T113000
DESCRIPTION:Join the Kirkhof College of Nursing as we&nbsp\;celebrate our Bachelor of Science in Nursing and Master of Science in Nursing and Doctor of Nursing Practice graduates at the end of the 2026 Winter S
SUMMARY:Kirkhof College of Nursing Recognition Ceremony - Winter Semester 2026
PRIORITY:3
END:VEVENT
BEGIN:VEVENT
DTSTART:20260427T130000
DTEND:20260427T140000
DESCRIPTION:The Accelerated&nbsp\;Second Degree BSN program is for individuals who have earned a bachelor&rsquo\;s degree or higher from an accredited college or university and wish to pursue a Bachelor of Scien
SUMMARY:GVSU Kirkhof College of Nursing Accelerated Second-Degree (BSN) Program - Virtual Information Session
PRIORITY:3
END:VEVENT
BEGIN:VEVENT
DTSTART:20260518T120000
DTEND:20260518T130000
DESCRIPTION:Join the GVSU Kirkhof College of Nursing for an interactive program information session to learn about how our programs can help deepen your nursing expertise and grow your career. Led by program f
SUMMARY:KCON Virtual Graduate Program Information Session - 5/18/26
PRIORITY:3
END:VEVENT
BEGIN:VEVENT
DTSTART:20260526T160000
DTEND:20260526T170000
DESCRIPTION:The Accelerated&nbsp\;Second Degree BSN program is for individuals who have earned a bachelor&rsquo\;s degree or higher from an accredited college or university and wish to pursue a Bachelor of Scien
SUMMARY:GVSU Kirkhof College of Nursing Accelerated Second-Degree (BSN) Program - Virtual Information Session
PRIORITY:3
END:VEVENT
BEGIN:VEVENT
DTSTART:20260629T120000
DTEND:20260629T130000
DESCRIPTION:The Accelerated&nbsp\;Second Degree BSN program is for individuals who have earned a bachelor&rsquo\;s degree or higher from an accredited college or university and wish to pursue a Bachelor of Scien
SUMMARY:GVSU Kirkhof College of Nursing Accelerated Second-Degree (BSN) Program - Virtual Information Session
PRIORITY:3
END:VEVENT
BEGIN:VEVENT
DTSTART:20260728T160000
DTEND:20260728T170000
DESCRIPTION:The Accelerated&nbsp\;Second Degree BSN program is for individuals who have earned a bachelor&rsquo\;s degree or higher from an accredited college or university and wish to pursue a Bachelor of Scien
SUMMARY:GVSU Kirkhof College of Nursing Accelerated Second-Degree (BSN) Program - Virtual Information Session
PRIORITY:3
END:VEVENT
BEGIN:VEVENT
DTSTART:20260814T120000
DTEND:20260814T130000
DESCRIPTION:The Accelerated&nbsp\;Second Degree BSN program is for individuals who have earned a bachelor&rsquo\;s degree or higher from an accredited college or university and wish to pursue a Bachelor of Scien
SUMMARY:GVSU Kirkhof College of Nursing Accelerated Second-Degree (BSN) Program - Virtual Information Session
PRIORITY:3
END:VEVENT
BEGIN:VEVENT
DTSTART:20260915T120000
DTEND:20260915T130000
DESCRIPTION:The Accelerated&nbsp\;Second Degree BSN program is for individuals who have earned a bachelor&rsquo\;s degree or higher from an accredited college or university and wish to pursue a Bachelor of Scien
SUMMARY:GVSU Kirkhof College of Nursing Accelerated Second-Degree (BSN) Program - Virtual Information Session
PRIORITY:3
END:VEVENT
END:VCALENDAR