BEGIN:VCALENDAR
VERSION:2.0
PRODID:-//GVSU//GVSU Calendar 0.1//EN
BEGIN:VEVENT
DTSTART:20260216T180000Z
DTEND:20260216T193000Z
DTSTAMP:20251207T204725Z
UID:adcbf605-3f41-4bb6-af87-4cc53d792bfb@gvsu.edu
DESCRIPTION:
LOCATION:Sikh Society of West Michigan\, 8845 Cascade Road\, SE\, Ada\, MI\, United States\, Michigan
SUMMARY:Sacred Site Visit - Sikh Society of West Michigan (INT 100/201 Approved)
PRIORITY:3
END:VEVENT
END:VCALENDAR
