BEGIN:VCALENDAR
VERSION:2.0
PRODID:-//GVSU//GVSU Calendar 0.1//EN
BEGIN:VEVENT
DTSTART:20250926T120000
DTEND:20250926T160000
DESCRIPTION:The 2025 ACPA/ASHE Presidential Symposium offers a virtual space to reflect on the complexities of the current moment in higher education while envisioning new possibilities for the future.\n\n\n\nGrounded in historical context\, the event invites participants to interrogate long-standing norms and practices\, explore alternative approaches to engaging with the academy\, and elevate creativity\, innovation\, mentorship\, community\, and Critical Hope as essential foundations for self-care and the future of higher education. Rather than offering quick fixes or one-size-fits-all solutions\, this gathering encourages deep questioning and collective imagination to address systemic challenges through courageous leadership and transformative action.\n\n\n\nOrganized and facilitated by ACPA President Jonathan A. McElderry and ASHE President Eboni Zamani-Gallaher\, the 8th Annual Presidential Symposium brings together scholars and practitioners to reflect on the moment.\n\n\n\nLight refreshments will be provided.
LOCATION:HON 220\, GVSU Valley Campus\n\n\n\nThis is an in-person event only.
SUMMARY:ACPA/ASHE Presidential Symposium
PRIORITY:3
END:VEVENT
END:VCALENDAR