BEGIN:VCALENDAR
VERSION:2.0
PRODID:-//GVSU//GVSU Calendar 0.1//EN
BEGIN:VEVENT
DTSTART:20241011T160000
DTEND:20241011T173000
DESCRIPTION:Our sixth annual CLA Alumni Panel brings together a cross-disciplinary panel of CLA Alumni from across the region for a conversation on the ethics and challenges of creating and leading effective teams. This panel will feature Katie Beemer\, Taylor Boyd\, AJ Fossel\, and Nate Gillespie.
LOCATION:Loosemore Auditorium\, Richard M. DeVos Center\n\n\n\n 401 Fulton St W\, Grand Rapids\, MI 49504
SUMMARY:Wheelhouse Talk\: Peter C. Cook Leadership Academy Alumni Panel
PRIORITY:3
END:VEVENT
END:VCALENDAR