BEGIN:VCALENDAR
VERSION:2.0
PRODID:-//GVSU//GVSU Calendar 0.1//EN
BEGIN:VEVENT
DTSTART:20241015T120000
DTEND:20241015T133000
DESCRIPTION:In their book The Myth of Left and Right\, brothers Hyrum and Verlan Lewis argue that the way we talk politics is not only wrong but fueling our divisive politics. Is it time to leave the ideologies of &ldquo\;left&rdquo\; and &ldquo\;right&rdquo\; behind? \n\n\n\nThe annual Progressive / Conservative Summit offers unique\, participatory opportunities to learn about the central ideologies of our times and encourage good faith dialogue and debate.
LOCATION:Charles W. Loosemore Forum\, L. William Seidman Center\n\n\n\n50 Front Ave SW\, Grand Rapids\, MI 49504
SUMMARY:Progressive / Conservative Summit\: The Myth of Left and Right
PRIORITY:3
END:VEVENT
END:VCALENDAR