BEGIN:VCALENDAR
VERSION:2.0
PRODID:-//GVSU//GVSU Calendar 0.1//EN
BEGIN:VEVENT
DTSTART:20240314T180000
DTEND:20240314T193000
DESCRIPTION:Best known for his famous signature\, John Hancock is often overshadowed by many of his colleagues in the founding of our nation. With middle-of-the-road and often shifting political views\, how did John Hancock become an influential figure amid a radical time and place? Historian and author Brooke Barbier provides a spirited account of John Hancock&rsquo\;s life\, tracing a moment when passion was on the side of compromise and accommodation proved the basis of profound social and political change.
LOCATION:Loosemore Auditorium\, Richard M. DeVos Center\n\n\n\n 401 Fulton St W\, Grand Rapids\, MI 49504
SUMMARY:King Hancock\: The Radical Influence of a Moderate Founding Father
PRIORITY:3
END:VEVENT
END:VCALENDAR