BEGIN:VCALENDAR
VERSION:2.0
PRODID:-//GVSU//GVSU Calendar 0.1//EN
BEGIN:VEVENT
DTSTART:20231201T160000
DTEND:20231201T173000
DESCRIPTION:A truly empowered citizen looks beyond civic engagement to consider how they can make change in all realms of their lives. Tricia Thomas stands out as an individual who leads within and beyond her role as Dean of the Kirkhof College of Nursing at Grand Valley State University. Throughout her career as a nurse\, nurse administrator\, educator\, and academic leader she has developed a leadership ethos that expands far beyond clinical care. With a passion for developing health leaders who can meet the needs of our communities\, a commitment to lifelong learning\, and a joyful spirit\, Dean Thomas joins us to share her story.
LOCATION:Loosemore Auditorium\, Richard M. DeVos Center\n\n\n\n 401 Fulton St W\, Grand Rapids\, MI 49504
SUMMARY:Wheelhouse Talk\: Stepping into Leadership with Dean Tricia Thomas
PRIORITY:3
END:VEVENT
END:VCALENDAR