BEGIN:VCALENDAR
VERSION:2.0
PRODID:-//GVSU//GVSU Calendar 0.1//EN
BEGIN:VEVENT
DTSTART:20231027T160000
DTEND:20231027T173000
DESCRIPTION:What does it mean to empower our communities? The fifth annual Peter C. Cook Leadership Academy (CLA) Panel will bring together a collective of CLA alumni who display empowerment in their everyday lives. Whether through workforce development\, health and environmental advocacy\, community activism\, or civic engagement\, these alumni are modeling how to be both a citizen and leader. This panel will feature Justin Arnold &rsquo\;12\, D&rsquo\;Shyla Hodge &rsquo\;21\, and Allyson Putt &rsquo\;15\, with moderation by Julian Sanders &rsquo\;21.
LOCATION:Loosemore Auditorium\, Richard M. DeVos Center\n\n\n\n 401 Fulton St W\, Grand Rapids\, MI 49504
SUMMARY:Wheelhouse Talk\: Peter C. Cook Leadership Academy Alumni Panel
PRIORITY:3
END:VEVENT
END:VCALENDAR