BEGIN:VCALENDAR
VERSION:2.0
PRODID:-//GVSU//GVSU Calendar 0.1//EN
BEGIN:VEVENT
DTSTART:20201022T190000
DTEND:20201022T210000
DESCRIPTION:In a society of 24-hour news cycles and political pundits\, weaving through information becomes an increasingly complex task\, especially in the wake of COVID-19 and the advent of our digital lives. Our current presidential election cycle has been\, in some ways\, subverted by the COVID-19 pandemic. As we continue to adjust to our hybrid lives of online and in-person\, we become easily siloed in an echo chamber of our own beliefs. What are we to make of our continued political polarization in the digital age? The Hauenstein Center is pleased to partner with Grand Valley&rsquo\;s Department of Political Science to present a panel discussion on the 2020 presidential election. The panel will be chaired by Darren Walhof\, and commenters will include Polly Diven\, Michelle Miller-Adams\, Pat Miles\, and Matt McLogan.\n\n\n\nWe are as eager as all of you are to resume the Hauenstein Center&rsquo\;s thought-provoking in person events. Though in these tumultuous times\, in order to comply with the Governor&rsquo\;s executive orders\, the CDC recommended guidelines\, and Grand Valley&rsquo\;s current policies\, our fall lineup will be offered digitally. The very first opportunity we have to go back to in person events\, we will do so\, so stay tuned!
LOCATION:https\://us02web.zoom.us/j/88404264857
SUMMARY:2020 Election Panel
PRIORITY:3
END:VEVENT
END:VCALENDAR