BEGIN:VCALENDAR
VERSION:2.0
PRODID:-//GVSU//GVSU Calendar 0.1//EN
BEGIN:VEVENT
DTSTART:20260409T180000
DTEND:20260409T193000
DESCRIPTION:Public debates about intelligence and surveillance have long reflected a tension between security and liberty in American democracy. Join us for a conversation with historian Jeff Rogg\, who studies the history of U.S. intelligence and its relationship with the American public. Drawing on his research\, Rogg will explore why Americans have often been wary of government intelligence activities while simultaneously participating in systems of surveillance\, and how these contradictions have shaped the development of the U.S. intelligence community.\n\n\n\nThe program will also examine the role citizens play in the nation&rsquo\;s intelligence system\, highlighting how public attitudes\, technological habits\, and civic understanding influence both the limits and possibilities of intelligence in a constitutional republic.\n\n\n\nProgram Schedule\n\n\n\n\n\n	5\:30 p.m. Doors Open &amp\; Check-In Available\n\n	6\:00 p.m. Program Begins\n\n	7\:10 p.m. Audience Q&amp\;A\n\n	7\:30 p.m. Program Concludes (Begin Book Sale/Signing &amp\; Dessert Reception)\n\n	8\:00 p.m. Book Sale/Signing &amp\; Dessert Reception Concludes\n\n\n\n\n\nBefore You Go\n\n\n\n\n\n	Admission is free\, but registration is required. Please check in when you arrive.\n\n	Open to the public! We welcome students\, faculty\, staff\, and community to attend.\n\n	We offer a free Community Conversations dessert reception following the program to reflect and chat about what you heard.\n\n	Though we encourage in-person attendance\, we continue to offer a virtual option at our events (check your confirmation email for a link).\n\n	This event takes place on GVSU&#39\;s City Campus in downtown GR. Parking directions will be included in your confirmation email.\n\n\n\n\n\nEvent Partners\n\n\n\nThis program is being offered in partnership with the Gerald R. Ford Presidential Library &amp\; Museum and GVSU&#39\;s Department of Political Science.\n\n\n\nAbout the Hauenstein Center\n\n\n\nInspired by Ralph Hauenstein&rsquo\;s life of leadership and service\, the Hauenstein Center for Presidential Studies is dedicated to raising a community of ethical\, effective leaders for the twenty-first century.\n\n\n\nConsider supporting our work and enjoying special benefits by purchasing a membership. Members receive special invitations to pre-event receptions at events\, including this one!\n\n\n\nMore About the Center    More About Membership\n\n\n\n \n\n\n\nINT 100/201 Approved
LOCATION:DeVos Center\, Loosemore Auditorium
SUMMARY:The Spy and the State\: The History of American Intelligence
PRIORITY:3
END:VEVENT
END:VCALENDAR