BEGIN:VCALENDAR
VERSION:2.0
PRODID:-//GVSU//GVSU Calendar 0.1//EN
BEGIN:VEVENT
DTSTART:20241011T110000
DTEND:20241011T130000
DESCRIPTION:Dr. Matthew Berkman will be answering questions about &quot\;New Anti-Semitism&quot\; from its origins after the Six-Day War to present in the wake of the 10/7 attack and campus protests against the following war in Gaza.
LOCATION:Pere Marquette Room (2204)\, Kirkhof Center\, Allendale Campus
SUMMARY:Matthew Berkman Antisemitism Roundtable
PRIORITY:3
END:VEVENT
END:VCALENDAR