BEGIN:VCALENDAR
VERSION:2.0
PRODID:-//GVSU//GVSU Calendar 0.1//EN
BEGIN:VEVENT
DTSTART:20260424T170000Z
DTEND:20260424T200000Z
DTSTAMP:20260204T153545Z
UID:d934695b-1689-4713-989b-7fc974529931@gvsu.edu
DESCRIPTION:
LOCATION:Loosemore Auditorium
SUMMARY:Winter 2026 Graduate School Citations for Academic Excellence
PRIORITY:3
END:VEVENT
END:VCALENDAR
