BEGIN:VCALENDAR
VERSION:2.0
PRODID:-//GVSU//GVSU Calendar 0.1//EN
BEGIN:VEVENT
DTSTART:20260428T150000Z
DTEND:20260428T170000Z
DTSTAMP:20260204T153829Z
UID:450b89a8-7c00-4406-8e19-f851da4a2464@gvsu.edu
DESCRIPTION:
LOCATION:Loosemore Auditorium/Hager-Lubbers Exhibition Hall
SUMMARY:Graduate Showcase
PRIORITY:3
END:VEVENT
END:VCALENDAR
