BEGIN:VCALENDAR
VERSION:2.0
PRODID:-//GVSU//GVSU Calendar 0.1//EN
BEGIN:VEVENT
DTSTART:20250227T163000
DTEND:20250227T183000
DESCRIPTION:Groundswell is excited to offer a social event for our community of educators\, local business owners\, nonprofit leaders\, and stewardship experts. This event will include light programming\, where our staff will share with you several program updates and provide you with time to ask questions and engage with our team. The rest of the evening will be dedicated to networking and enjoying one another&#39\;s company. This will be an opportunity for our community to come together to share space\, talk\, and engage with one another. \n\n\n\nWe&#39\;ll be offering one drink ticket per attendee\, and light refreshments will be provided. \n\n\n\nDue to the nature of this event\, there will NOT be any SCECHs available for attendees.
LOCATION:UCCELLOS Ristorante\, Standale\n\n4787 Lake Michigan Dr\n\nWalker\, MI 49534
SUMMARY:Groundswell Network Social Hour
PRIORITY:3
END:VEVENT
END:VCALENDAR