BEGIN:VCALENDAR
VERSION:2.0
PRODID:-//GVSU//GVSU Calendar 0.1//EN
BEGIN:VEVENT
DTSTART:20251029T170000
DTEND:20251029T193000
DESCRIPTION:Join us for our annual Dinner and Dialogue! Dinner and a drink are on us as a thank you for all that you do in our community as educators and partners. [NOTE the date change to October (this event typically happens in December)]\n\n\n\nIn theme with Developing Community Partnerships\, we will be facilitating speed-networking during this event. By the end of the evening\, every educator will have met every partner in the room! This is a great way to spark inspiration for your action project\, learn more about the partner organizations in our area\, and enjoy an evening with peers who care deeply about environmental education.\n\n\n\nDinner will be served. Business casual attire. SCECH hours awarded. Participants can expect a full agenda for the evening. This PD will be indoors.\n\n\n\nSCECH credits\: 2.5\n\n\n\nRegistration closes on Wednesday\, October 22 at 10am OR when we reach event capacity.\n\n\n\n~ ~ ~ ~ ~ ~ \n\n\n\nGroundswell provides immersive professional learning opportunity (PLO) experiences focused on teaching place-based education (PBE) practices. Learn more about the practice of place-based education on the Great Lakes Stewardship Initiative PBE Webpage. \n\n\n\nThese PLO events are open to any educators interested in learning more about Groundswell\, those who are actively working on their student projects already\, or those looking to learn more about researching environmental and community issues!
LOCATION:L. William Seidman Center\n\n\n\n50 Front Ave SW\, Grand Rapids\, MI 49504
SUMMARY:Groundswell Dinner & Dialogue
PRIORITY:3
END:VEVENT
END:VCALENDAR