BEGIN:VCALENDAR
VERSION:2.0
PRODID:-//GVSU//GVSU Calendar 0.1//EN
BEGIN:VEVENT
DTSTART:20250114T163000
DTEND:20250114T183000
DESCRIPTION:In response to requests from local educators and partners alike\, Groundswell is offering a special event for our network. Dr. Jamie Langlois\, associate professor in the GVSU School of Social Work\, will be this professional learning&#39\;s visiting expert. Join your peers in discussion and learning as we work to navigate the challenging spaces of social and emotional health for pK-12 students.\n\n\n\nThese PLO events are open to any educators interested in learning more about Groundswell\, those who are actively working on their student projects already\, or those looking to learn more about researching environmental and community issues!\n\n\n\nAdditional details including SCECH Credits\, location\, how to RSVP\, and other information will be provided closer to the date of the event.
LOCATION:7 Monks Taproom\n\n\n\n740 Michigan St NE\, Grand Rapids\, MI 49503
SUMMARY:Fostering Belonging\: Student Social/Emotional Health
PRIORITY:3
END:VEVENT
END:VCALENDAR