BEGIN:VCALENDAR
VERSION:2.0
PRODID:-//GVSU//GVSU Calendar 0.1//EN
BEGIN:VEVENT
DTSTART:20240218T100000
DTEND:20240218T110000
DESCRIPTION:Groundswell is excited to host this event for our partner Joyful Wildcrafting. Please note this is not a Groundswell professional learning\, but a free\, community event.\n\n\n\nThe purpose of this gathering is to experience a way of acknowledging the natural world\, greeting all living things\, and showing gratitude. This practice is encouraged by the Haudenosaunee\, as written by John Stokes\, that we &ldquo\;share in these words\, that our concentrated attention might help us rediscover our balance\, respect\, and oneness with Nature.&rdquo\;\n\n\n\nThis event is open to everyone of all ages\, but they are designed for informal and formal educators to experience the Thanksgiving Address in community so they can reflect and consider how they might use this practice with their students\, nature center patrons\, etc.\n\n\n\nThe Thanksgiving Address\: Greetings to the Natural World pocket book will guide the heart of the practice. This program is underwritten by the Michigan Alliance for Environmental Outdoor Educators and Joyful Wildcrafting\, so informal and formal educators will receive a copy of the pocket book at no charge.\n\n\n\nPlan for a portion or all of the time to be spent outside.\n\n\n\nNo registration is not necessary for this free event! See https\://joyfulwildcrafting.com/event/thanksgiving-address/ for more information!
LOCATION:GVSU Kirkhof Center\, Room 1104 1 Campus Dr. Allendale\, MI 49401
SUMMARY:Thanksgiving Address\: Greetings to the Natural World\, Hosted by Joyful Wildcrafting
PRIORITY:3
END:VEVENT
END:VCALENDAR