BEGIN:VCALENDAR
VERSION:2.0
PRODID:-//GVSU//GVSU Calendar 0.1//EN
BEGIN:VEVENT
DTSTART:20260426T100000
DTEND:20260426T113000
DESCRIPTION:https\://www.miclimateaction.org/events/poetry-workshop-20260426/ \n\n\n\nIn celebration of our 2026 Call for Art theme\, &ldquo\;Collective Courage\,&rdquo\; we invite you to a free virtual workshop designed to help you manage climate anxiety and explore solidarity through the power of words.\n\n\n\nWhat to Expect\:\n\n\n\nThis 90-minute session\, led by Eileen Boekestein\, is a space for both reflection and creation. Eileen is an environmental educator and communicator who specializes in connecting people to their place and region. During the workshop\, she will share a presentation on navigating climate feelings and the importance of hope\, interspersed with selected poems to listen to and reflect upon.\n\n\n\nYou will be guided through a series of creative prompts- similar to our Summit art prompts- asking how it feels to speak out when climate action is restricted or where you find visions of a resilient future. While the workshop is rooted in poetry\, you are welcome to respond in any art medium that feels right to you. There will be dedicated time for writing and an opportunity to share your work with the group if you wish.\n\n\n\nThis workshop is a perfect opportunity to try out a new artistic medium or refine a piece for our 2026 Call for Art. All workshop participants are encouraged to submit their creations to be considered for exhibition at the Summit on June 12th. Selected artists receive a free ticket to the Summit\, the chance to win cash prizes up to $250\, and more!\n\n\n\nJoin us to find your voice\, process your grief\, and lean into the collective courage needed for our movement.\n\n\n\nStart\: Sunday\, April 26\, 2026 at 10\:00 AM EDT\n\n\n\nEnd\: Sunday\, April 26\, 2026 at 11\:30 AM EDT\n\n\n\nEvent Type\: Virtual\n\nA virtual link will be communicated before the event.\n\n\n\nHost Contact Info\: serena.amdur@miclimateaction.org
LOCATION:Event Type\: Virtual\n\nA virtual link will be communicated before the event.
SUMMARY:Verse for the Earth\: A Climate Poetry Workshop
PRIORITY:3
END:VEVENT
END:VCALENDAR