BEGIN:VCALENDAR
VERSION:2.0
PRODID:-//GVSU//GVSU Calendar 0.1//EN
BEGIN:VEVENT
DTSTART:20151118T150000
DTEND:20151118T163000
DESCRIPTION:Students use Wikipedia &mdash\; but have you ever asked them to contribute content? In this workshop\, staff members from the Wiki Education Foundation will talk about why Wikipedia&#39\;s quality is so important and how students can improve academic topics through a classroom assignment. In contributing content to Wikipedia\, students gain skills in media literacy\, fact-based writing\, research\, collaboration\, and critical thinking. You&rsquo\;ll learn about best practices for using Wikipedia as a teaching tool and how Wiki Ed can support you and your students in this innovative service learning assignment. Register in Sprout \n\n\n\nPresented by Jami Mathewson and Ian Ramjohn\, Wiki Education Foundation \n\n\n\n
LOCATION:
SUMMARY:Students write Wikipedia\: How to use Wikipedia as a teaching tool
PRIORITY:3
END:VEVENT
END:VCALENDAR