BEGIN:VCALENDAR
VERSION:2.0
PRODID:-//GVSU//GVSU Calendar 0.1//EN
BEGIN:VEVENT
DTSTART:20170124T160000
DTEND:20170124T180000
DESCRIPTION:Have a glass of wine\, enjoy some hors d&#39\;oeuvres and join colleagues to discuss what is happening at GVSU around the teaching and scholarship of data &ndash\; big\, medium\, and small. There will be an update on the Big Data Initiative and the sharing of models of faculty collaborations across disciplines. Faculty from all disciplines are most welcome to attend &ndash\; whether you have an emerging interest in a digital aspect to your field\, are engaged in a data-intensive scholarly pursuit\, or are somewhere in between\, come learn what opportunities are available for you. The digital community at GVSU is thriving and growing. Please join us!\n\n\n\nIf you have any questions about the event\, please contact Dr. Maria Cimitile. Registration is requested - follow the link above.
LOCATION:
SUMMARY:Data and the Digital World at GVSU
PRIORITY:3
END:VEVENT
END:VCALENDAR