BEGIN:VCALENDAR
VERSION:2.0
PRODID:-//GVSU//GVSU Calendar 0.1//EN
BEGIN:VEVENT
DTSTART:20260512T083000
DTEND:20260512T120000
DESCRIPTION:Strong Start Teaching Institute\n\nDate\: May 11 - 12\, 2026\n\nLocation\: Devos Center for Interprofessional Health
LOCATION:DCIH
SUMMARY:Strong Start Teaching Institute - Day 2
PRIORITY:3
END:VEVENT
END:VCALENDAR