BEGIN:VCALENDAR
VERSION:2.0
PRODID:-//GVSU//GVSU Calendar 0.1//EN
BEGIN:VEVENT
DTSTART:20230615T130000
DTEND:20230615T140000
DESCRIPTION:Planning on an international research collaboration? Interested in learning more about opportunities to teach and conduct research abroad as a Fulbright Scholar? Preparing for an upcoming sabbatical? Please join colleagues from IIE for an information session specifically designed for GVSU faculty. Everyone is welcome!  See US Scholar Awards - Fellowships Abroad for Scholars &amp\; Professionals | Fulbright Scholars and Faculty Fellowships - Center for Scholarly and Creative Excellence - Grand Valley State University (gvsu.edu) for GVSU-tailored information.
LOCATION:
SUMMARY:CANCELLED - Fulbright Scholar Program\: Information Session (for faculty) hosted by the Institute of International Education (IIE)
PRIORITY:3
END:VEVENT
END:VCALENDAR