BEGIN:VCALENDAR
VERSION:2.0
PRODID:-//GVSU//GVSU Calendar 0.1//EN
BEGIN:VEVENT
DTSTART:20250213T153000
DTEND:20250213T170000
DESCRIPTION:Are you preparing for an upcoming sabbatical or other form of leave? Intrigued by the idea of a Fulbright Scholar or Fulbright Specialist award and eager to learn more? Join this Fulbright Scholar information session to hear from GVSU colleagues who have been Fulbright Scholars in the recent past and from your campus Fulbright liaison\, Dr. Tooley. We&#39\;ll have plenty of time for Q&amp\;A\, as well!\n\n\n\nAll GVSU faculty who are interested in the possibility of conducting research and/or teaching overseas through a competitive faculty fellowship are welcome. See the Fulbright Scholar and Fulbright Specialist websites for more information about these awards (and see the Faculty Fellowships webpage for additional fellowship possibilities).\n\n\n\nThe Fulbright Scholar program offers over 450 teaching\, research or combination teaching/research awards in over 130 countries. The application process is not as difficult and complex as you may think\, and a Fulbright award is a delight to experience. Many recent applications by GVSU faculty have been successful. The application process for the Fulbright Scholar award has a mid-September deadline for awards in the 2025-26 academic year. Fulbright grants typically support work for semester or academic-year terms.\n\n\n\nFulbright Specialist awards pair highly qualified U.S. academics and professionals with host institutions abroad to share their expertise\, strengthen institutional linkages\, hone their skills\, gain international experience\, and learn about other cultures while building capacity at their overseas host institutions. Peer review panels evaluate applications approximately every eight weeks\, so there are multiple application deadlines throughout the year. Specialists are placed on a roster for three years\; hosting institutions draw from this roster for focused visit invitations. You&rsquo\;ll find the application deadlines readily available on the Fulbright Specialist website.\n\n\n\nFood will be served! Join us for good conversation about exciting opportunities within the Fulbright Scholar Program!\n\n\n\nWe will begin with a brief panel presentation. Presenters include\:\n\n\n\n\n\n	Salvatore Alaimo\, Ph.D.\, Professor of Nonprofit Management (Fulbright Scholar award\, Czech Republic)\n\n	Polly Diven\, Ph.D.\, Professor of Political Science (Fulbright Specialist award\, Taiwan)\n\n	Sherie Klee\, Ph.D.\, Professor of Education\, Graduate Program Director - Curriculum and Instruction\, COST International Director (Fulbright Scholar award\, Armenia)\n\n	Jeff Kelly Lowenstein\, M.S.J.\, Associate Professor of Communication and Journalism and Executive Director of the Center for Collaborative Investigative Journalism (Fulbright Specialist award\, Greece)\n\n\n\n\n\nPlease feel most welcome to contact Dr. Brenda Tooley by email if you would like to learn more. We can arrange a time for a zoom conversation.
LOCATION:Place\: Kirkhof Center 2266\n\nDate\: February 13\, 2025\n\nTime\: 3\:30 PM &ndash\; 5\:00ish PM\n\n
SUMMARY:GVSU Faculty Fulbright Scholar Panel and Information Session (VIRTUAL - shifting because of snow)
PRIORITY:3
END:VEVENT
END:VCALENDAR