BEGIN:VCALENDAR
VERSION:2.0
PRODID:-//GVSU//GVSU Calendar 0.1//EN
BEGIN:VEVENT
DTSTART:20251014T120000
DTEND:20251014T130000
DESCRIPTION:GVSU Students\:  Curious about fellowships? Interested in learning more about undergraduate summer research opportunities beyond GVSU? Join me in this zoom-based information session to look at some possibilities and to talk about how best to identify opportunities and then pursue them. There are many fine summer research fellowships in national labs\, major research libraries and in non-governmental organizations. Let&#39\;s talk!\n\n\n\nFor more information\, email fellowships@gvsu.edu.
LOCATION:Join Zoom Meeting\n\nhttps\://gvsu-edu.zoom.us/j/91577743318?pwd=gIabdXmc5byfa2xM83PbG2cu7FhJvg.1&amp\;from=addon
SUMMARY:Virtual Info Session\:  Research Fellowships for Undergraduates - What to know! How to explore opportunities!
PRIORITY:3
END:VEVENT
END:VCALENDAR