BEGIN:VCALENDAR
VERSION:2.0
PRODID:-//GVSU//GVSU Calendar 0.1//EN
BEGIN:VEVENT
DTSTART:20260513T120000
DTEND:20260513T130000
DESCRIPTION:Are you interested in teaching English abroad? Are you curious about studying for a Master&#39\;s degree abroad? The Fulbright program might be for you! Join me to learn more!\n\n\n\nFor more Information about Fulbright possibilities and application procedures\n\n\n\n1)&nbsp\; Explore the&nbsp\;Fulbright U.S. Student website.\n\n2)&nbsp\; Search&nbsp\;Types of Awards&nbsp\;and take a look at which&nbsp\;countries&nbsp\;Fulbright may take you.\n\n3) Explore&nbsp\;Fulbright Tutorials&nbsp\;to learn more about grant types and eligibility.\n\n4) Visit the&nbsp\;Getting Started&nbsp\;page to learn more about next steps.\n\n\n\nClick here for additional information\n\n\n\nRSVP for this event
SUMMARY:Fulbright US Student Program - Virtual Information Session
PRIORITY:3
END:VEVENT
BEGIN:VEVENT
DTSTART:20260603T120000
DTEND:20260603T130000
DESCRIPTION:Are you interested in teaching English abroad? Are you curious about studying for a Master&#39\;s degree abroad? The Fulbright program might be for you! Join me to learn more!\n\n\n\nFor more Information about Fulbright possibilities and application procedures\n\n\n\n1)&nbsp\; Explore the&nbsp\;Fulbright U.S. Student website.\n\n2)&nbsp\; Search&nbsp\;Types of Awards&nbsp\;and take a look at which&nbsp\;countries&nbsp\;Fulbright may take you.\n\n3) Explore&nbsp\;Fulbright Tutorials&nbsp\;to learn more about grant types and eligibility.\n\n4) Visit the&nbsp\;Getting Started&nbsp\;page to learn more about next steps.\n\n\n\nClick here for additional information\n\n\n\nRSVP for this event
SUMMARY:Fulbright US Student Program - Virtual Information Session
PRIORITY:3
END:VEVENT
BEGIN:VEVENT
DTSTART:20260624T120000
DTEND:20260624T130000
DESCRIPTION:Are you interested in teaching English abroad? Are you curious about studying for a Master&#39\;s degree abroad? The Fulbright program might be for you! Join me to learn more!\n\n\n\nFor more Information about Fulbright possibilities and application procedures\n\n\n\n1)&nbsp\; Explore the&nbsp\;Fulbright U.S. Student website.\n\n2)&nbsp\; Search&nbsp\;Types of Awards&nbsp\;and take a look at which&nbsp\;countries&nbsp\;Fulbright may take you.\n\n3) Explore&nbsp\;Fulbright Tutorials&nbsp\;to learn more about grant types and eligibility.\n\n4) Visit the&nbsp\;Getting Started&nbsp\;page to learn more about next steps.\n\n\n\nClick here for additional information\n\n\n\nRSVP for this event
SUMMARY:Fulbright US Student Program - Virtual Information Session
PRIORITY:3
END:VEVENT
BEGIN:VEVENT
DTSTART:20260722T120000
DTEND:20260722T130000
DESCRIPTION:Interested in teaching English abroad as a Fulbright English Teaching Assistant (ETA)? Curious about the Fulbright Study/Research (S/R) grants for US students seeking support for a year of funded graduate study abroad? Join the Frederik Meijer Office of Fellowships&nbsp\;for an informal information session to learn more.&nbsp\;\n\n\n\nFor more Information about Fulbright possibilities and application procedures\n\n\n\n1)&nbsp\; Explore the&nbsp\;Fulbright U.S. Student website.\n\n2)&nbsp\; Search Types of Awards&nbsp\;and take a look at which&nbsp\;countries&nbsp\;Fulbright may take you.\n\n3) Explore&nbsp\;Fulbright Tutorials&nbsp\;to learn more about grant types and eligibility.\n\n4) Visit the&nbsp\;Getting Started&nbsp\;page to learn more about next steps.\n\n\n\nInterested students may join here!&nbsp\;\n\n\n\nClick here for additional information\n\n\n\nRSVP for this event
SUMMARY:Virtual Information Session\: Fulbright US Student Program- Tips and Guidelines as you draft your essays
PRIORITY:3
END:VEVENT
BEGIN:VEVENT
DTSTART:20270414T090000
DTEND:20270414T170000
DESCRIPTION:The Center for Undergraduate Scholar Engagement\, the Office of Undergraduate Research and Scholarship (OURS) and the Student Scholars Day Faculty Planning Committee are thrilled to welcome you to the 31st annual Student Scholars Day conference. This year&#39\;s theme will be announced in the Fall Semester\, and the registration process to participate in SSD will open early in Winter Semester 2027. Keep an eye on this page and on your email inbox for more information as it becomes available.\n\n\n\nStudent Scholars Day (SSD) celebrates scholarship\, research\, and creative work performed by GVSU students. Beginning as a single-day research symposium almost 30 years ago\, SSD evolved into a multi-day event that celebrates the scholarly process and showcases faculty-mentored student work. Student presentations will be on Wednesday\, April 14\, 2027. This event is coordinated by the&nbsp\;Office of Undergraduate Research and Scholarship.&nbsp\; We anticipate an inspiring day of scholarship\, discovery and dialogue.&nbsp\;\n\n\n\nWe look forward to welcoming you to Student Scholars Day 2027.\n\n\n\nClick here for additional information
SUMMARY:Student Scholars Day 2027
PRIORITY:3
END:VEVENT
END:VCALENDAR