BEGIN:VCALENDAR
VERSION:2.0
PRODID:-//GVSU//GVSU Calendar 0.1//EN
BEGIN:VEVENT
DTSTART:20260917T120000Z
DTEND:20260917T130000Z
DTSTAMP:20260213T190819Z
UID:c1411d88-809e-4c14-95a4-0ac712435166@gvsu.edu
DESCRIPTION:
LOCATION:
SUMMARY:Online Combined Degree Program Informational
PRIORITY:3
END:VEVENT
END:VCALENDAR
