BEGIN:VCALENDAR
VERSION:2.0
PRODID:-//GVSU//GVSU Calendar 0.1//EN
BEGIN:VEVENT
DTSTART:20260521T120000Z
DTEND:20260521T130000Z
DTSTAMP:20260213T190819Z
UID:c0144b37-ec84-4ddc-afef-38b5acfe05ef@gvsu.edu
DESCRIPTION:
LOCATION:
SUMMARY:Online Combined Degree Program Informational
PRIORITY:3
END:VEVENT
END:VCALENDAR
