BEGIN:VCALENDAR
VERSION:2.0
PRODID:-//GVSU//GVSU Calendar 0.1//EN
BEGIN:VEVENT
DTSTART:20260319T120000Z
DTEND:20260319T130000Z
DTSTAMP:20260213T190819Z
UID:82cb550f-aceb-436c-9dd8-ead2d700f3a4@gvsu.edu
DESCRIPTION:
LOCATION:
SUMMARY:Online Combined Degree Program Informational
PRIORITY:3
END:VEVENT
END:VCALENDAR
