BEGIN:VCALENDAR
VERSION:2.0
PRODID:-//GVSU//GVSU Calendar 0.1//EN
BEGIN:VEVENT
DTSTART:20261119T120000Z
DTEND:20261119T130000Z
DTSTAMP:20260213T190819Z
UID:6541b632-50b5-41f2-ac6d-6b93b008543b@gvsu.edu
DESCRIPTION:
LOCATION:
SUMMARY:Online Combined Degree Program Informational
PRIORITY:3
END:VEVENT
END:VCALENDAR
