BEGIN:VCALENDAR
VERSION:2.0
PRODID:-//GVSU//GVSU Calendar 0.1//EN
BEGIN:VEVENT
DTSTART:20260716T120000Z
DTEND:20260716T130000Z
DTSTAMP:20260213T190819Z
UID:0994f428-3871-403d-b7d2-9097d98776ab@gvsu.edu
DESCRIPTION:
LOCATION:
SUMMARY:Online Combined Degree Program Informational
PRIORITY:3
END:VEVENT
END:VCALENDAR
