BEGIN:VCALENDAR
VERSION:2.0
PRODID:-//GVSU//GVSU Calendar 0.1//EN
BEGIN:VEVENT
DTSTART:20241121T180000
DTEND:20241121T000000
DESCRIPTION:The 11th Annual Padnos/Sarosik Civil Discourse Symposium is planned for November 21\, 2024 and will be led by Dr. Greg Warsen\, Endowed Professor of Civil Discourse and Graduate Program Director for the Educational Specialist in Educational Leadership. \n\n\n\nSave the date! More details to come.
LOCATION:Seidman Center (Pew Campus)\n\nSeidman Forum \n\n50 Front Ave SW\,\n\nGrand Rapids\, MI 49504
SUMMARY:Gen Z Voices\: If We Were President
PRIORITY:3
END:VEVENT
END:VCALENDAR