BEGIN:VCALENDAR
VERSION:2.0
PRODID:-//GVSU//GVSU Calendar 0.1//EN
BEGIN:VEVENT
DTSTART:20221109T180000
DTEND:20221109T203000
DESCRIPTION:This year&rsquo\;s Padnos/Sarosik Civil Discourse Symposium is a three-day event that will culminate with an interactive keynote address from John Noltner\, A Peace of My Mind&#39\;s founder\, photographer\, and storyteller\, on Wednesday\, November 9 from 6\:00-8\:30 p.m. in the Eberhard Center on the Robert C. Pew Grand Rapids Campus. Noltner&rsquo\;s presentation will include sharing images and quotes from his conversations with members of the Grand Valley and Grand Rapids communities about their hopes for our country\, as well as material from Lessons on the Road to Peace\, a multi-media project featuring conversations with ordinary Americans he met during his 40\,000-mile drive across the country. Other highlights of the symposium include a curated photography exhibit\, a photography studio experience for students\, faculty/staff\, and community members\, and a studio workshop with Seeds of Promise\, a community organization partner of the Center for this special event.\n\n\n\nFor complete details on the photography exhibit and studio workshops\, please visit the Fall 2022 Symposium page.\n\n\n\nKEYNOTE ADDRESS\: \n\n\n\nJohn Noltner\: Lessons on the Road to Peace\n\nFrustrated with a polarized world\, John Noltner drove 40\,000 miles across the country interviewing and photographing hundreds of people from all walks of life. His keynote address is a multi-media presentation through which he shares his personal story of following his passion while at the same time revealing the wisdom of everyday Americans and their stories of hope\, transformation\, and forgiveness. With portraits and personal stories\, ordinary people reveal extraordinary insights into how we can work toward common good and create a world that is more just for all. Noltner&rsquo\;s work is grounded in the belief that art and storytelling have the power to transform our hearts as well as our communities\, and that we each have the power to create positive change in the world.\n\n\n\nThe keynote address is open to the public and will be interactive\, incorporating small group discussions as well as a question/answer session with Noltner.\n\n\n\n6\:00-6\:30 p.m. - Refreshments \n\n6\:30-8\:30 p.m. - Program\n\n\n\nThis event is approved for INT 100/201 credit!
LOCATION:The keynote address will take place on the Pew Grand Rapids Campus at\:\n\n\n\nL.V. Eberhard Center \n\n301 Fulton Street W.\n\nGrand Rapids\, MI 49504\n\n\n\nThis event will also be live-streamed via Zoom at https\://gvsu-edu.zoom.us/j/95168480044.
SUMMARY:9th Annual Civil Discourse Symposium - Sharing our Stories\: Moving from Division to Hope
PRIORITY:3
END:VEVENT
END:VCALENDAR