BEGIN:VCALENDAR
VERSION:2.0
PRODID:-//GVSU//GVSU Calendar 0.1//EN
BEGIN:VEVENT
DTSTART:20260430T170000
DTEND:20260430T193000
DESCRIPTION:This spring\, we are thrilled to celebrate the newest class of Peter C. Cook Leadership Academy Fellows. As our 2026&nbsp\;graduates prepare to enter the next season of life\, we will gather to celebrate the impact they have made on the Grand Valley community.\n\n\n\nThe program will include remarks by Hauenstein Center staff\, a guest keynote\, and commencement by the graduates as they receive&nbsp\;their CLA certificates.\n\n\n\nFriends\, family\, and acquaintances are welcome to attend the ceremony to show their support for the graduates.\n\n\n					\n						RSVP for this event\n
SUMMARY:Peter C. Cook Leadership Academy Celebration of Graduates
PRIORITY:3
END:VEVENT
END:VCALENDAR