BEGIN:VCALENDAR
VERSION:2.0
PRODID:-//GVSU//GVSU Calendar 0.1//EN
BEGIN:VEVENT
DTSTART:20260615T170000Z
DTEND:20260615T203000Z
DTSTAMP:20260422T125730Z
UID:7d73f190-9540-497b-b4bc-c914ec1f1a23@gvsu.edu
DESCRIPTION:
LOCATION:City Opera House 106 E Front St\, Traverse City\, MI 49684
SUMMARY:MVE-Lab Final Pitch Event and Showcase - Traverse City
PRIORITY:3
END:VEVENT
END:VCALENDAR
