BEGIN:VCALENDAR
VERSION:2.0
PRODID:-//GVSU//GVSU Calendar 0.1//EN
BEGIN:VEVENT
DTSTART:20251029T120000
DTEND:20251029T130000
DESCRIPTION:You Are Not A Robot\: How to Ethically &amp\; Effectively Use AI in Your Career Search\n\n\n\nThis presentation explores the practical applications and ethical considerations when using AI in your career search. Beginning with an overview of AI usage\, resources\, and limitations\, we will explore how AI can be harnessed to enhance your career search. More importantly\, while acknowledging the potential of AI\, this presentation also addresses the critical ethical considerations and challenges that arise\, aiming to equip individuals with the knowledge to implement AI responsibly. Attendees will leave with an understanding of AI&rsquo\;s capabilities\, limitations\, and the roadmap to ethically integrate AI tools into their career search.\n\n\n\nAbout the speaker\:\n\n\n\nKali Wolken is a certified career coach and licensed counselor who empowers individuals to find clarity\, confidence\, and renewed purpose in their careers. Drawing on her background in mental health counseling and career development\, she brings a practical yet personal approach that resonates deeply with audiences. Kali inspires people to feel hopeful about their future and equipped to move forward with confidence.
LOCATION:Online via Zoom
SUMMARY:Graduate School PD Session\: How to Ethically & Effectively Use AI in Your Career Search
PRIORITY:3
END:VEVENT
END:VCALENDAR