BEGIN:VCALENDAR
VERSION:2.0
PRODID:-//GVSU//GVSU Calendar 0.1//EN
BEGIN:VEVENT
DTSTART:20251014T130000
DTEND:20251014T170000
DESCRIPTION:The Fall Career &amp\; Internship Fair is an excellent place to kick off your job or internship search\, or to begin networking with organizations looking to hire Grand Valley students and alumni of all majors! 200+ employers with immediate openings are expected to attend.\n\n\n\nCheck out our Student Preparation Site!\n\n\n\nAttend the Career Fair to\:\n\n\n\n\n\n	meet with employers to discuss full-time positions\n\n	learn about available internships and co-ops\n\n	build your professional network and expand your job search\n\n
LOCATION:DeVos Place Convention Center\n\n303 Monroe Avenue Northwest\, Grand Rapids\, Michigan 49503
SUMMARY:GVSU Fall 2025 Career and Internship Fair
PRIORITY:3
END:VEVENT
END:VCALENDAR