BEGIN:VCALENDAR
VERSION:2.0
PRODID:-//GVSU//GVSU Calendar 0.1//EN
BEGIN:VEVENT
DTSTART:20260429T100000
DTEND:20260429T113000
DESCRIPTION:Research shows a strong link between animal abuse and family violence. Professionals working with children\, survivors\, and families often encounter pets used as tools of control. Understanding this connection strengthens safety planning and intervention.\n\n\n\n\n\n	Recognize warning signs\n\n	Support families with pets in crisis\n\n	Strengthen cross-agency collaboration\n\n	Improve investigation and prosecution approaches\n\n\n\n\n\n\n\n\n\nThis training has been approved by the NASW-Michigan Chapter for 1.5 synchronous General social work CEs\: Approval Number 20260429-CA-RAEV.\n\n\n\nCost\: $45.00\n\n\n\nClick here for additional information
SUMMARY:When Animal Abuse Links to Family Violence\: Strategies for Safety
PRIORITY:3
END:VEVENT
END:VCALENDAR