BEGIN:VCALENDAR
VERSION:2.0
PRODID:-//GVSU//GVSU Calendar 0.1//EN
BEGIN:VEVENT
DTSTART:20171026T151500
DTEND:20171026T170000
DESCRIPTION:The first part of this event will be a time for networking and an opportunity to learn about ways to get involved on campus\, in the community and opportunities to pursue after college. The second half of the event will be a time for us to learn from our Alumni. Four outstanding alums will share their experiences at GVSU and in their career. This event is part of the Brooks Professional Series. All are invited to attend!
LOCATION:
SUMMARY:Brooks College Student Reception and Alumni Panel Discussion
PRIORITY:3
END:VEVENT
END:VCALENDAR