BEGIN:VCALENDAR
VERSION:2.0
PRODID:-//GVSU//GVSU Calendar 0.1//EN
BEGIN:VEVENT
DTSTART:20260830T100000
DTEND:20260830T000000
DESCRIPTION:Join us on the green for our first annual GVSU Golf &quot\;combined&quot\; Team Outing! This outing will take place on Sunday\, August 30\, at The Meadows Golf Club in Allendale. Your registration fee includes\: 18-hole four-person scramble (with cart) PLUS a GV CURRENT GOLF TEAM MEMBER or GOLF TEAM ALUM\, two drink tickets\, lunch\, awards\, raffle and more! You will have the unique opportunity to golf 18-holes with a top ranked DII Laker golf team member!   \n\n\n\nAll money generated through the outing will directly benefit both golf teams at GVSU. By choosing to support our outing you are making an investment in excellence and helping our men&#39\;s and women&#39\;s golf programs create a championship experience. \n\n\n\nRegistration Title Sponsor Eagle Sponsor Birdie Sponsor\n\n\n\nPrintable Brochure\n\n\n\nTIMELINE\n\n\n\n\n\n	8\:30 a.m. Registration\, open practice range\n\n	10\:00 a.m. Shotgun Start\n\n	3\:00 p.m. Dinner/program/awards\n\n\n\n\n\nLOCATION/MAP\n\n\n\n\n\n	The Meadows Golf Course / 4645 W Campus Dr.\, Allendale\, MI 49401\n\n\n\n\n\nATTIRE\n\n\n\n\n\n	Golf/Casual/Laker Gear\n\n\n\n\n\nINDIVIDUAL COSTS\:\n\n\n\n$250 per person \n\n\n\nVIP PACKAGE\:\n\n\n\n$100 per person\n\n\n\n\n\n	Coffee with coaches\n\n	Lesson on the range/indoor simulator prior to the outing \n\n\n\n\n\nSPONSORSHIP OPPORTUNITIES\:\n\n\n\nTitle Sponsor\: $10\,000\n\n\n\n\n\n	Two foursomes\, VIP package for 8 people\, recognition on golf carts\, electronic scoreboard\, tee box sponsor signs on holes 1 &amp\; 18\, eight GV hats\, GVSU Athletics Fund benefits.  \n\n\n\n\n\nEagle Sponsor\: $5\,000\n\n\n\n\n\n	Foursome\, VIP Package for 4 people\, two tee box sponsor signs\, recognition on electronic scoreboard\, four GV hats\, GVSU Athletics Fund benefits. \n\n\n\n\n\nBirdie Sponsor\: $2\,000\n\n\n\n\n\n	Foursome\, two tee box sponsor signs\, recognition on electronic scoreboard\, GVSU Athletics Fund benefits.\n\n\n\n\n\nRAIN DATE POLICY\n\n\n\n\n\n	The day&#39\;s events will take place regardless of weather. If inclement weather prohibits play\, rain checks will be distributed to the prepaid participants. The tournament will not be rescheduled and refunds are not applicable. \n\n
LOCATION:The Meadows\, Allendale\, MI
SUMMARY:GVSU Men's & Women's Golf Team Outing 2026!
PRIORITY:3
END:VEVENT
END:VCALENDAR