BEGIN:VCALENDAR
VERSION:2.0
PRODID:-//GVSU//GVSU Calendar 0.1//EN
BEGIN:VEVENT
DTSTART:20190410T170000
DTEND:20190410T190000
DESCRIPTION:You are graduating with over a 150 Asian students? If so we want to CELEBRATE with you. There will be authentic catered Chinese and Nepali vegetarian food.  Free Food!\n\n\n\nPlease RSVP April 3\, 2019 \n\n\n\nhttp\://bit.ly/2JjWh06\n\n\n\nFor more details please download the graduation flyer.
LOCATION:
SUMMARY:Graduation Celebration for Students\, Faculty\, and Staff
PRIORITY:3
END:VEVENT
END:VCALENDAR