BEGIN:VCALENDAR
VERSION:2.0
PRODID:-//GVSU//GVSU Calendar 0.1//EN
BEGIN:VEVENT
DTSTART:20250917T160000
DTEND:20250917T180000
DESCRIPTION:Head to PAC Gallery 1121 to experience the power of art and technology in Stories Reimagined\: Artistic Narrative in the Digital Age. Art is often the vessel for storytelling\, explored through more traditional media across time and cultures. In our new age of rapidly developing technology\, how are artists using these new media in their processes\, and how can we enhance already existing artwork? Enjoy food and beverages during the reception\, experiment with AI-generated art\, and see familiar works from the GVSU art collection in a new way.\n\n\n\nRefreshments from 4\:30 - 5\:30.\n\n\n\nGuests and visitors may use LOT H2 on the Allendale campus across the street from the Haas Center for Performing Arts. ADA parking is available in the KC LOT. To locate the parking lots\, please view the campus maps.
LOCATION:Haas Center for Performing Arts Gallery (PAC 1121)\n\n1 Campus Dr.\n\nAllendale\, MI 49401
SUMMARY:Opening Reception - Stories Reimagined\: Artistic Narrative in the Digital Age
PRIORITY:3
END:VEVENT
END:VCALENDAR