BEGIN:VCALENDAR
VERSION:2.0
PRODID:-//GVSU//GVSU Calendar 0.1//EN
BEGIN:VEVENT
DTSTART:20260506T150000Z
DTEND:20260506T180000Z
DTSTAMP:20260414T192434Z
UID:22301a3c-6a04-4c08-8ccf-7e1c4603ae60@gvsu.edu
DESCRIPTION:
LOCATION:New Holland (Barrel Stave East Loft room) in Grand Rapids (417 Bridge St. NW\, Grand Rapids\, MI 49504)
SUMMARY:AP Social
PRIORITY:3
END:VEVENT
END:VCALENDAR
