BEGIN:VCALENDAR
VERSION:2.0
PRODID:-//GVSU//GVSU Calendar 0.1//EN
BEGIN:VEVENT
DTSTART:20260427T190000
DTEND:20260427T203000
DESCRIPTION:SMART Recovery is a program that uses science and self-empowerment to help people overcome any harmful addictive behavior.  SMART stands for Self-Management and Recovery Training and uses a 4 point program that helps people find the power to change within themselves. Meetings are open to students\, faculty\, staff\, and community members.\n\n\n\nFree parking is available in the Grand Valley Apartments lot.
LOCATION:Grand Valley Apartments - Community Center\n\n\n\n10330 42nd Avenue\, Allendale Charter Township\, MI
SUMMARY:SMART Recovery
PRIORITY:3
END:VEVENT
END:VCALENDAR