BEGIN:VCALENDAR
VERSION:2.0
PRODID:-//GVSU//GVSU Calendar 0.1//EN
BEGIN:VEVENT
DTSTART:20260326T173000
DTEND:20260326T193000
DESCRIPTION:Celebrate Day of Giving by coming together with fellow Lakers to support what makes GVSU special. Bring a friend and connect with other alumni while enjoying complimentary appetizers and a few rounds of Laker bingo. Plus\, 15% of all beverage sales will directly support GVSU&rsquo\;s Day of Giving!\n\n \n\nWe&rsquo\;ll have the March Madness games streaming throughout the event.
LOCATION:Uccello&#39\;s - Downtown\n\n122 Monroe Center St. NW\n\nGrand Rapids\, MI
SUMMARY:Young Alumni Happy Hour + Bingo
PRIORITY:3
END:VEVENT
END:VCALENDAR