BEGIN:VCALENDAR
VERSION:2.0
PRODID:-//GVSU//GVSU Calendar 0.1//EN
BEGIN:VEVENT
DTSTART:20260829T093000
DTEND:20260829T000000
DESCRIPTION:Please join us for the GVSU Men&#39\;s Basketball Golf Outing! Connect with teammates\, friends\, and supporters of our basketball team. Join our coaches\, staff\, and current Laker players for fun and friendship on the green.\n\n\n\nRegister   Sponsor (includes golfers)   Sponsor (no golf)\n\n\n\n&mdash\; ADDITIONAL DETAILS &mdash\;\n\n\n\nDate\: Saturday\, August 29\, 2026\n\nTIME\: Registration/Practice Range at 8\:00 a.m.\, Shotgun Start at 9\:30 a.m.\n\nLOCATION\: The Meadows Golf Course\n\nMAP\: 4645 W Campus Dr.\, Allendale\, MI 49401\n\nPARKING\: On site\n\nATTIRE\: Casual/Laker Gear/Golf Course Attire\n\nPRICE\: $135 per person includes 18 holes with cart\, practice range\, lunch\, post-golf awards.\n\n\n\nPost-Golf Lunch Only\: If you would like to join us for the post-golf meal and awards\, the cost is $25. Register today\: Lunch Only Registration \n\n\n\nSponsorship Opportunities\: \n\n\n\n\n\n	$150 - name on tee box/recognition at lunch\n\n	$300 - name on tee box/recognition at lunch/two (2) 2026 LS Drifit GLIAC Championship shirts\n\n	$900  - foursome with cart\, name on tee box/recognition at lunch\, (4) 2026 LS Drifit GLIAC Championship shirts\n\n	Other sponsorship opportunities are available - to discuss\, please reach out to DJ Mocini direct at mocinid@gvsu.edu\n\n\n\n\n\nAll proceeds benefit GVSU Men&#39\;s Basketball.
LOCATION:
SUMMARY:GVSU Men's Basketball Golf Outing 2026
PRIORITY:3
END:VEVENT
END:VCALENDAR