BEGIN:VCALENDAR
VERSION:2.0
PRODID:-//GVSU//GVSU Calendar 0.1//EN
BEGIN:VEVENT
DTSTART:20261003T090000
DTEND:20261003T000000
DESCRIPTION:Join GV Baseball alumni\, friends and coaching staff for a day on the green at The Meadows in Allendale on Saturday\, October 3! After golf we will gather for a tailgate and awards near Tailgate Town before the toofball game where GVSU will take on Wayne State University at 3\:00 p.m. We look forward to seeing you there! \n\n\n\nIndividual Golf Registration    Tee Sponsor (no golf)    Sponsorship (with golf) \n\n\n\nDATE\: Saturday\, October 3\, 2026\n\n\n\nTIME\: \n\n\n\n\n\n	8\:00 a.m. Registration and practice range \n\n	9\:00 a.m. Shotgun Start\n\n	2\:00 p.m. Post-Golf Awards and Meal - Tailgate Town\n\n	3\:00 p.m. GV Football vs. Wayne State \n\n\n\n\n\nATTIRE\: Golf/Casual/Laker Gear\n\n\n\nCOST\: $125 per person - includes 18 holes of golf with cart\, brats\, hot dogs\, beverages\, awards\, post-golf meal. \n\n\n\nSPONSORSHIP OPPORTUNITIES\: \n\n\n\nHole Sponsor\: $200 hole sponsorship(s) available\n\n\n\nLunch Sponsor\: $1000 (includes foursome\, recognition)\n\n\n\nBeverage Sponsor\: $1000 (includes foursome\, recognition\, multiple available)\n\n\n\nLOCATION\n\n\n\n\n\n	The Meadows Golf Course - Allendale Campus\n\n\n\n\n\nAll proceeds benefit the GVSU Baseball Program. \n\n\n\nPlease sign up by September 25!
LOCATION:The Meadows Golf Course\, Allendale MI \n\n\n\n
SUMMARY:GVSU Baseball Alumni & Friends Golf Outing 2026!
PRIORITY:3
END:VEVENT
END:VCALENDAR